BEGIN:VCALENDAR
VERSION:2.0
PRODID:-//OnCadence Consulting
CALSCALE:GREGORIAN
METHOD:PUBLISH
X-WR-CALNAME:OnCadence Consulting
X-ORIGINAL-URL:https://oncadence.com/product/20250927_cspo/
X-WR-CALDESC:2025年10月18-19日 在线CSPO
BEGIN:VEVENT
DTSTART;TZID=Asia/Shanghai:20251018T090000
DTEND;TZID=Asia/Shanghai:20251019T173000
SUMMARY:2025年10月18-19日 在线CSPO
DESCRIPTION:
URL:https://oncadence.com/product/20250927_cspo/
LOCATION:
END:VEVENT
END:VCALENDAR
