BEGIN:VCALENDAR
VERSION:2.0
PRODID:-//OnCadence Consulting
CALSCALE:GREGORIAN
METHOD:PUBLISH
X-WR-CALNAME:OnCadence Consulting
X-ORIGINAL-URL:https://oncadence.com/product/20250614-15-cspo/
X-WR-CALDESC:2025年6月14-15日 在线CSPO
BEGIN:VEVENT
DTSTART;TZID=Asia/Shanghai:20250614T090000
DTEND;TZID=Asia/Shanghai:20250615T173000
SUMMARY:2025年6月14-15日 在线CSPO
DESCRIPTION:
URL:https://oncadence.com/product/20250614-15-cspo/
LOCATION:
END:VEVENT
END:VCALENDAR
