BEGIN:VCALENDAR
VERSION:2.0
PRODID:-//OnCadence Consulting
CALSCALE:GREGORIAN
METHOD:PUBLISH
X-WR-CALNAME:OnCadence Consulting
X-ORIGINAL-URL:https://oncadence.com/product/acsm_202408_10_11_en/
X-WR-CALDESC:8月10日-11日 在线A-CSM中国标准时间
BEGIN:VEVENT
DTSTART;TZID=Asia/Shanghai:20240810T090000
DTEND;TZID=Asia/Shanghai:20240811T173000
SUMMARY:8月10日-11日 在线A-CSM中国标准时间
DESCRIPTION:
URL:https://oncadence.com/product/acsm_202408_10_11_en/
LOCATION:
END:VEVENT
END:VCALENDAR
