BEGIN:VCALENDAR
VERSION:2.0
PRODID:-//OnCadence Consulting
CALSCALE:GREGORIAN
METHOD:PUBLISH
X-WR-CALNAME:OnCadence Consulting
X-ORIGINAL-URL:https://oncadence.com/product/202409_21_22_cspsm_sh_en/
X-WR-CALDESC:9月21日-22日 CSP-SM 上海线下
BEGIN:VEVENT
DTSTART;TZID=Asia/Shanghai:20240921T090000
DTEND;TZID=Asia/Shanghai:20240922T000000
SUMMARY:9月21日-22日 CSP-SM 上海线下
DESCRIPTION:
URL:https://oncadence.com/product/202409_21_22_cspsm_sh_en/
LOCATION:2B-861, 188 Hongjing Road, Minhang District
END:VEVENT
END:VCALENDAR
